BEGIN:VCALENDAR
VERSION:2.0
PRODID:icalendar-ruby
CALSCALE:GREGORIAN
METHOD:PUBLISH
BEGIN:VEVENT
DTSTAMP:20260423T083713Z
UID:95-1538563@fbcbwd.com
DTSTART:20260427T180000Z
DTEND:20260427T190000Z
CLASS:PUBLIC
CREATED:20260420T153741
DESCRIPTION:Funeral for Gary Boyd in the FBC Brownwood Sanctuary.
LAST-MODIFIED:20260420T153741
LOCATION:
SUMMARY:Funeral for Gary Boyd
URL;VALUE=URI:https://fbcbwd.com/events/funeral-for-gary-boyd/2026-04-27
END:VEVENT
END:VCALENDAR
