BEGIN:VCALENDAR
VERSION:2.0
PRODID:icalendar-ruby
CALSCALE:GREGORIAN
METHOD:PUBLISH
BEGIN:VEVENT
DTSTAMP:20260422T171139Z
UID:20-1543404@fbcbwd.com
DTSTART:20261021T233000Z
DTEND:20261022T003000Z
CLASS:PUBLIC
CREATED:20260422T103601
DESCRIPTION:Join us for our Midweek Prayer and Bible Study for adults. All 
 generations together\, praying for needs in our church\, community\, and w
 orld. Studying scripture together\, led by Pastor Jerry.
LAST-MODIFIED:20260422T103601
LOCATION:Basement Auditorium
SUMMARY:Prayer & Bible Study
URL;VALUE=URI:https://fbcbwd.com/events/prayer-bible-study/2026-10-21
ATTACH;FILENAME=prayer-and-bible-study.png;FMTTYPE=image/png:https://dq5pwp
 g1q8ru0.cloudfront.net/2025/07/22/17/56/38/eeebcf76-e558-42bb-a411-746a45a
 88f30/prayer-and-bible-study.png
END:VEVENT
END:VCALENDAR
